BEGIN:VCALENDAR
VERSION:2.0
PRODID:-//New South Wales Secondary Principals&#039; Council - ECPv5.1.4//NONSGML v1.0//EN
CALSCALE:GREGORIAN
METHOD:PUBLISH
X-WR-CALNAME:New South Wales Secondary Principals&#039; Council
X-ORIGINAL-URL:https://www.nswspc.org.au
X-WR-CALDESC:Events for New South Wales Secondary Principals&#039; Council
BEGIN:VTIMEZONE
TZID:Australia/Sydney
BEGIN:STANDARD
TZOFFSETFROM:+1100
TZOFFSETTO:+1000
TZNAME:AEST
DTSTART:20210403T160000
END:STANDARD
BEGIN:DAYLIGHT
TZOFFSETFROM:+1000
TZOFFSETTO:+1100
TZNAME:AEDT
DTSTART:20211002T160000
END:DAYLIGHT
END:VTIMEZONE
BEGIN:VEVENT
DTSTART;VALUE=DATE:20210226
DTEND;VALUE=DATE:20210227
DTSTAMP:20210301T065643
CREATED:20201209T230849Z
LAST-MODIFIED:20201209T230849Z
UID:8257-1614297600-1614383999@www.nswspc.org.au
SUMMARY:SPC Professional Learning Day
DESCRIPTION:
URL:https://www.nswspc.org.au/event/spc-professional-learning-day-3/2021-02-26/
CATEGORIES:Professional Learning
END:VEVENT
END:VCALENDAR