BEGIN:VCALENDAR
VERSION:2.0
PRODID:-//New South Wales Secondary Principals&#039; Council - ECPv5.1.4//NONSGML v1.0//EN
CALSCALE:GREGORIAN
METHOD:PUBLISH
X-WR-CALNAME:New South Wales Secondary Principals&#039; Council
X-ORIGINAL-URL:https://www.nswspc.org.au
X-WR-CALDESC:Events for New South Wales Secondary Principals&#039; Council
BEGIN:VTIMEZONE
TZID:Australia/Sydney
BEGIN:STANDARD
TZOFFSETFROM:+1100
TZOFFSETTO:+1000
TZNAME:AEST
DTSTART:20210403T160000
END:STANDARD
BEGIN:DAYLIGHT
TZOFFSETFROM:+1000
TZOFFSETTO:+1100
TZNAME:AEDT
DTSTART:20211002T160000
END:DAYLIGHT
END:VTIMEZONE
BEGIN:VEVENT
DTSTART;VALUE=DATE:20210225
DTEND;VALUE=DATE:20210226
DTSTAMP:20210301T065443
CREATED:20201209T230722Z
LAST-MODIFIED:20201209T230722Z
UID:8252-1614211200-1614297599@www.nswspc.org.au
SUMMARY:SPC State Assembly
DESCRIPTION:
URL:https://www.nswspc.org.au/event/spc-state-assembly-3/2021-02-25/
CATEGORIES:State Assembly
ORGANIZER;CN="Amy%20McKeown%20%28SPC%20Executive%20Officer%29":MAILTO:execofficer@nswspc.org.au
END:VEVENT
END:VCALENDAR